BEGIN:VCALENDAR
VERSION:2.0
PRODID:-//BCM Link - ECPv6.15.20//NONSGML v1.0//EN
CALSCALE:GREGORIAN
METHOD:PUBLISH
X-ORIGINAL-URL:https://bcmlink.org
X-WR-CALDESC:Events for BCM Link
REFRESH-INTERVAL;VALUE=DURATION:PT1H
X-Robots-Tag:noindex
X-PUBLISHED-TTL:PT1H
BEGIN:VTIMEZONE
TZID:America/Chicago
BEGIN:DAYLIGHT
TZOFFSETFROM:-0600
TZOFFSETTO:-0500
TZNAME:CDT
DTSTART:20220313T080000
END:DAYLIGHT
BEGIN:STANDARD
TZOFFSETFROM:-0500
TZOFFSETTO:-0600
TZNAME:CST
DTSTART:20221106T070000
END:STANDARD
BEGIN:DAYLIGHT
TZOFFSETFROM:-0600
TZOFFSETTO:-0500
TZNAME:CDT
DTSTART:20230312T080000
END:DAYLIGHT
BEGIN:STANDARD
TZOFFSETFROM:-0500
TZOFFSETTO:-0600
TZNAME:CST
DTSTART:20231105T070000
END:STANDARD
BEGIN:DAYLIGHT
TZOFFSETFROM:-0600
TZOFFSETTO:-0500
TZNAME:CDT
DTSTART:20240310T080000
END:DAYLIGHT
BEGIN:STANDARD
TZOFFSETFROM:-0500
TZOFFSETTO:-0600
TZNAME:CST
DTSTART:20241103T070000
END:STANDARD
END:VTIMEZONE
BEGIN:VEVENT
DTSTART;TZID=America/Chicago:20231113T160000
DTEND;TZID=America/Chicago:20231113T200000
DTSTAMP:20260425T134148
CREATED:20220315T201433Z
LAST-MODIFIED:20231003T164628Z
UID:2442-1699891200-1699905600@bcmlink.org
SUMMARY:Unite 2023
DESCRIPTION:A gathering of Alabama Baptist campus ministers\, college pastors\, and collegiate church planters to encourage\, equip and celebrate! Dinner will be provided from Taco Mama and there will be free giveaways for those in attendance. \nSpeaker: Gary Stidham \nRegister:\n\nFill out my online form.\n\n  Fill out my Wufoo form!
URL:https://bcmlink.org/event/unite-2023/
LOCATION:AUM Student Center\, 7400 East Dr\, Montgomery\, AL\, 36117\, United States
ATTACH;FMTTYPE=image/webp:https://bcmlink.org/wp-content/uploads/2022/03/Unite-2023-corrected.png
ORGANIZER;CN="Ben Edfeldt":MAILTO:bedfeldt@alsbom.org
END:VEVENT
END:VCALENDAR