BEGIN:VCALENDAR
VERSION:2.0
PRODID:-//BCM Link - ECPv6.15.20//NONSGML v1.0//EN
CALSCALE:GREGORIAN
METHOD:PUBLISH
X-WR-CALNAME:BCM Link
X-ORIGINAL-URL:https://bcmlink.org
X-WR-CALDESC:Events for BCM Link
REFRESH-INTERVAL;VALUE=DURATION:PT1H
X-Robots-Tag:noindex
X-PUBLISHED-TTL:PT1H
BEGIN:VTIMEZONE
TZID:America/Chicago
BEGIN:DAYLIGHT
TZOFFSETFROM:-0600
TZOFFSETTO:-0500
TZNAME:CDT
DTSTART:20200308T080000
END:DAYLIGHT
BEGIN:STANDARD
TZOFFSETFROM:-0500
TZOFFSETTO:-0600
TZNAME:CST
DTSTART:20201101T070000
END:STANDARD
BEGIN:DAYLIGHT
TZOFFSETFROM:-0600
TZOFFSETTO:-0500
TZNAME:CDT
DTSTART:20210314T080000
END:DAYLIGHT
BEGIN:STANDARD
TZOFFSETFROM:-0500
TZOFFSETTO:-0600
TZNAME:CST
DTSTART:20211107T070000
END:STANDARD
BEGIN:DAYLIGHT
TZOFFSETFROM:-0600
TZOFFSETTO:-0500
TZNAME:CDT
DTSTART:20220313T080000
END:DAYLIGHT
BEGIN:STANDARD
TZOFFSETFROM:-0500
TZOFFSETTO:-0600
TZNAME:CST
DTSTART:20221106T070000
END:STANDARD
BEGIN:DAYLIGHT
TZOFFSETFROM:-0600
TZOFFSETTO:-0500
TZNAME:CDT
DTSTART:20230312T080000
END:DAYLIGHT
BEGIN:STANDARD
TZOFFSETFROM:-0500
TZOFFSETTO:-0600
TZNAME:CST
DTSTART:20231105T070000
END:STANDARD
BEGIN:DAYLIGHT
TZOFFSETFROM:-0600
TZOFFSETTO:-0500
TZNAME:CDT
DTSTART:20240310T080000
END:DAYLIGHT
BEGIN:STANDARD
TZOFFSETFROM:-0500
TZOFFSETTO:-0600
TZNAME:CST
DTSTART:20241103T070000
END:STANDARD
BEGIN:DAYLIGHT
TZOFFSETFROM:-0600
TZOFFSETTO:-0500
TZNAME:CDT
DTSTART:20250309T080000
END:DAYLIGHT
BEGIN:STANDARD
TZOFFSETFROM:-0500
TZOFFSETTO:-0600
TZNAME:CST
DTSTART:20251102T070000
END:STANDARD
BEGIN:DAYLIGHT
TZOFFSETFROM:-0600
TZOFFSETTO:-0500
TZNAME:CDT
DTSTART:20260308T080000
END:DAYLIGHT
BEGIN:STANDARD
TZOFFSETFROM:-0500
TZOFFSETTO:-0600
TZNAME:CST
DTSTART:20261101T070000
END:STANDARD
BEGIN:DAYLIGHT
TZOFFSETFROM:-0600
TZOFFSETTO:-0500
TZNAME:CDT
DTSTART:20270314T080000
END:DAYLIGHT
BEGIN:STANDARD
TZOFFSETFROM:-0500
TZOFFSETTO:-0600
TZNAME:CST
DTSTART:20271107T070000
END:STANDARD
END:VTIMEZONE
BEGIN:VEVENT
DTSTART;TZID=America/Chicago:20260220T180000
DTEND;TZID=America/Chicago:20260221T150000
DTSTAMP:20260424T022453
CREATED:20250819T205351Z
LAST-MODIFIED:20250819T205351Z
UID:2879-1771610400-1771686000@bcmlink.org
SUMMARY:Pursue 2026
DESCRIPTION:Pursue is an annual collegiate conference.\nMain stage will feature Dr. Jeff Iorg and the Worship Collective. We’ll offer numerous breakout sessions\, a late-night event\, and more!
URL:https://bcmlink.org/event/pursue-2026/
LOCATION:First Baptist Church\, Montgomery\, 305 South Perry Street\, Montgomery\, AL\, 36104\, United States
ORGANIZER;CN="Chris Mills":MAILTO:cmills@alsbom.org
END:VEVENT
BEGIN:VEVENT
DTSTART;TZID=America/Chicago:20251110T160000
DTEND;TZID=America/Chicago:20251110T200000
DTSTAMP:20260424T022453
CREATED:20251008T125347Z
LAST-MODIFIED:20251022T210401Z
UID:2913-1762790400-1762804800@bcmlink.org
SUMMARY:Unite 2025
DESCRIPTION:Join us for Unite\, a gathering of Alabama Baptist college ministry leaders. Clayton Bullion will speak on developing leaders.\nDinner is included\, and the event is free to attend. \n\nFill out my online form.\n\n  Fill out my Wufoo form!
URL:https://bcmlink.org/event/unite-2025/
LOCATION:UAH Student Center\, 450 Sparkman Dr NW\, Huntsville\, 35805\, United States
ATTACH;FMTTYPE=image/webp:https://bcmlink.org/wp-content/uploads/2025/10/UNITE-2025.webp
ORGANIZER;CN="Ben Edfeldt":MAILTO:bedfeldt@alsbom.org
END:VEVENT
BEGIN:VEVENT
DTSTART;TZID=America/Chicago:20250802T100000
DTEND;TZID=America/Chicago:20250802T170000
DTSTAMP:20260424T022453
CREATED:20240412T210116Z
LAST-MODIFIED:20250317T211217Z
UID:2684-1754128800-1754154000@bcmlink.org
SUMMARY:Called Conference
DESCRIPTION:The call to ministry can seem like the most complex decision to wade through. We want to help. The Called Conference is a one-day event designed to help young men and women\, high school through college\, who are considering the life-changing call to ministry. The charge is $30. Lunch will be provided. \n\nFill out my online form.\n\n  Fill out my Wufoo form!
URL:https://bcmlink.org/event/called-conference-2/
LOCATION:Samford University\, 800 Lakeshore Dr.\, Birmingham\, AL\, 35229\, United States
ATTACH;FMTTYPE=image/jpeg:https://bcmlink.org/wp-content/uploads/2025/02/Mailer-1.jpg
ORGANIZER;CN="Larry Hyche":MAILTO:lhyche@alsbom.org
END:VEVENT
BEGIN:VEVENT
DTSTART;TZID=America/Chicago:20241111T160000
DTEND;TZID=America/Chicago:20241111T200000
DTSTAMP:20260424T022453
CREATED:20240318T211516Z
LAST-MODIFIED:20240924T184252Z
UID:2674-1731340800-1731355200@bcmlink.org
SUMMARY:Unite 2024
DESCRIPTION:A Gathering of Alabama Baptist College Ministry Leaders. \n\nFill out my online form.\n\n  Fill out my Wufoo form!
URL:https://bcmlink.org/event/unite-2024/
LOCATION:Eastern Shores Baptist Church\, 6847 Park Dr.\, Daphne\, AL\, 36526\, United States
ATTACH;FMTTYPE=image/webp:https://bcmlink.org/wp-content/uploads/2019/10/Untitled-design-5.webp
ORGANIZER;CN="Ben Edfeldt":MAILTO:bedfeldt@alsbom.org
END:VEVENT
BEGIN:VEVENT
DTSTART;TZID=America/Chicago:20241004T180000
DTEND;TZID=America/Chicago:20241005T150000
DTSTAMP:20260424T022453
CREATED:20240318T210623Z
LAST-MODIFIED:20240318T210623Z
UID:2673-1728064800-1728140400@bcmlink.org
SUMMARY:International Friends Retreat
DESCRIPTION:International Friends Retreat is designed to help international students attending college in Alabama make American friends and adjust to life in the United States. Cost is $40. Deadline for registration is September 27.
URL:https://bcmlink.org/event/international-friends-retreat-3/
LOCATION:Worldsong Camp
ATTACH;FMTTYPE=image/jpeg:https://bcmlink.org/wp-content/uploads/2021/11/International-Friends-Retreat.jpeg
ORGANIZER;CN="Chris Mills":MAILTO:cmills@alsbom.org
END:VEVENT
BEGIN:VEVENT
DTSTART;TZID=America/Chicago:20240803T100000
DTEND;TZID=America/Chicago:20240803T170000
DTSTAMP:20260424T022453
CREATED:20240412T205724Z
LAST-MODIFIED:20240412T205724Z
UID:2683-1722679200-1722704400@bcmlink.org
SUMMARY:Called Conference
DESCRIPTION:The call to ministry can seem like the most complex decision to wade through. We want to help. The Called Conference is a one-day event designed to help young men and women\, high school through college\, who are considering the life-changing call to ministry. Cost is $30. Lunch will be provided.
URL:https://bcmlink.org/event/called-conference/
ATTACH;FMTTYPE=image/webp:https://bcmlink.org/wp-content/uploads/2023/11/Front.png
END:VEVENT
BEGIN:VEVENT
DTSTART;TZID=America/Chicago:20240209T180000
DTEND;TZID=America/Chicago:20240210T153000
DTSTAMP:20260424T022453
CREATED:20230912T194558Z
LAST-MODIFIED:20230912T194558Z
UID:2593-1707501600-1707579000@bcmlink.org
SUMMARY:Pursue 2024
DESCRIPTION:An event for College\, High School Seniors\, and their Leaders.
URL:https://bcmlink.org/event/pursue-2024/
LOCATION:Taylor Road Baptist Church\, 1685 Taylor Road\, Montgomery\, 36117\, United States
ORGANIZER;CN="Ben Edfeldt":MAILTO:bedfeldt@alsbom.org
END:VEVENT
BEGIN:VEVENT
DTSTART;TZID=America/Chicago:20231113T160000
DTEND;TZID=America/Chicago:20231113T200000
DTSTAMP:20260424T022453
CREATED:20220315T201433Z
LAST-MODIFIED:20231003T164628Z
UID:2442-1699891200-1699905600@bcmlink.org
SUMMARY:Unite 2023
DESCRIPTION:A gathering of Alabama Baptist campus ministers\, college pastors\, and collegiate church planters to encourage\, equip and celebrate! Dinner will be provided from Taco Mama and there will be free giveaways for those in attendance. \nSpeaker: Gary Stidham \nRegister:\n\nFill out my online form.\n\n  Fill out my Wufoo form!
URL:https://bcmlink.org/event/unite-2023/
LOCATION:AUM Student Center\, 7400 East Dr\, Montgomery\, AL\, 36117\, United States
ATTACH;FMTTYPE=image/webp:https://bcmlink.org/wp-content/uploads/2022/03/Unite-2023-corrected.png
ORGANIZER;CN="Ben Edfeldt":MAILTO:bedfeldt@alsbom.org
END:VEVENT
BEGIN:VEVENT
DTSTART;TZID=America/Chicago:20230224T180000
DTEND;TZID=America/Chicago:20230225T153000
DTSTAMP:20260424T022453
CREATED:20220315T194732Z
LAST-MODIFIED:20220315T194732Z
UID:2441-1677261600-1677339000@bcmlink.org
SUMMARY:Pursue 2023
DESCRIPTION:A Discipleship event for Alabama College Students\, Young Adults\, and their Leaders.
URL:https://bcmlink.org/event/pursue-2023/
LOCATION:First Baptist Church\, Montgomery\, 305 South Perry Street\, Montgomery\, AL\, 36104\, United States
ORGANIZER;CN="Mike Nuss":MAILTO:mnuss@alsbom.org
END:VEVENT
BEGIN:VEVENT
DTSTART;TZID=America/Chicago:20221114T160000
DTEND;TZID=America/Chicago:20221114T200000
DTSTAMP:20260424T022453
CREATED:20220315T193047Z
LAST-MODIFIED:20221108T172100Z
UID:2439-1668441600-1668456000@bcmlink.org
SUMMARY:Unite 2022
DESCRIPTION:Unite is a gathering of Alabama Baptist college ministry leaders. \n\nThe event is free\n\nThe event includes dinner – registration helps us prepare for a correct amount.\n\nEvent is at Shades Mountain Baptist – Hearth Room \nUnite will also provide an opportunity for you to hear from other BCM and College ministry leaders along with table discussions around current important collegiate ministry topics.\n\nTopic: Calling – Preparing our students for leveraging their lives for the Gospel.\nSpeaker: Jeff Iorg – President of Gateway Seminary \nRegister:\n\nFill out my online form.\n\n  Fill out my Wufoo form!
URL:https://bcmlink.org/event/unite-2/
LOCATION:Shades Mountain Baptist Church\, 2017 Columbiana Rd\, Vestavia Hills\, AL\, 35216\, United States
ATTACH;FMTTYPE=image/webp:https://bcmlink.org/wp-content/uploads/2022/03/NOVEMBER-14-2022.png
ORGANIZER;CN="Mike Nuss":MAILTO:mnuss@alsbom.org
END:VEVENT
BEGIN:VEVENT
DTSTART;VALUE=DATE:20220930
DTEND;VALUE=DATE:20221002
DTSTAMP:20260424T022453
CREATED:20220420T161523Z
LAST-MODIFIED:20220902T194419Z
UID:2452-1664496000-1664668799@bcmlink.org
SUMMARY:International Friends Retreat
DESCRIPTION:International Friends Retreat is designed to help international students attending college in Alabama make American friends and adjust to life in the United States. \nCOST:: $30 \nDeadline to register: September 23rd \nIf you’re an international student studying in Alabama\, you’re invited to a weekend of kayaking\, mountain climbing\, zip-lining\, bow tag\, archery\, a tailgate party\, and most importantly\, relationship building with American friends! \nAmerican students don’t miss this opportunity to learn from others who have lived in different cultures\, build friendships with international students from your campus\, and enjoy all that WorldSong has to offer! \n\nFor more information or to register contact your Baptist Campus Minister or cmills@alsbom.org
URL:https://bcmlink.org/event/international-friends-retreat-2/
LOCATION:Worldsong Camp
ATTACH;FMTTYPE=image/jpeg:https://bcmlink.org/wp-content/uploads/2021/11/International-Friends-Retreat.jpeg
ORGANIZER;CN="Chris Mills":MAILTO:cmills@alsbom.org
END:VEVENT
BEGIN:VEVENT
DTSTART;TZID=America/Chicago:20220225T160000
DTEND;TZID=America/Chicago:20220226T150000
DTSTAMP:20260424T022453
CREATED:20211103T155835Z
LAST-MODIFIED:20211109T170635Z
UID:2403-1645804800-1645887600@bcmlink.org
SUMMARY:Pursue
DESCRIPTION:A Discipleship event for Alabama College Students\, Young Adults\, and their Leaders.
URL:https://bcmlink.org/event/pursue/
LOCATION:First Baptist Church\, Opelika\, 301 S 8th Street\, Opelika\, Alabama\, 36801
ATTACH;FMTTYPE=image/webp:https://bcmlink.org/wp-content/uploads/2021/11/Featured-Image-01.webp
ORGANIZER;CN="Mike Nuss":MAILTO:mnuss@alsbom.org
END:VEVENT
BEGIN:VEVENT
DTSTART;TZID=America/Chicago:20211120T100000
DTEND;TZID=America/Chicago:20211120T160000
DTSTAMP:20260424T022453
CREATED:20211103T153653Z
LAST-MODIFIED:20211103T153810Z
UID:2396-1637402400-1637424000@bcmlink.org
SUMMARY:International Friends Retreat
DESCRIPTION:International Friends Retreat is designed to help international students attending college in Alabama make American friends and adjust to life in the United States.
URL:https://bcmlink.org/event/international-friends-retreat/
LOCATION:Earle Trent Assembly\, 1245 Spring Cove Road\, Florence\, Alabama\, 35634
ATTACH;FMTTYPE=image/jpeg:https://bcmlink.org/wp-content/uploads/2021/11/International-Friends-Retreat.jpeg
ORGANIZER;CN="Chris Mills":MAILTO:cmills@alsbom.org
END:VEVENT
BEGIN:VEVENT
DTSTART;TZID=America/Chicago:20211115T160000
DTEND;TZID=America/Chicago:20211115T200000
DTSTAMP:20260424T022453
CREATED:20211103T154630Z
LAST-MODIFIED:20211103T154630Z
UID:2400-1636992000-1637006400@bcmlink.org
SUMMARY:Unite
DESCRIPTION:College Ministry Leaders. \nWe know that college students are not only making an impact on their local campus but across the globe. On November 15\, at this year’s UNITE event we will focus on how we can help students be better prepared to go – specifically for a Go2/Journeyman or longer mission opportunity. We’ll highlight the challenges that keep students from going (financial\, spiritual\, and emotional health concerns) and explore the pathways for students to go while seeking to grasp the great need and preview specific mission opportunities for your students.  Leaders from the IMB Student and Assessment/Deployment Teams will join us for this event. There is no cost to you for this event\, but to be good stewards of resources and to adequately plan\, we ask you to please pre-register by Nov. 8. \nRegister:\n\nFill out my online form.\n\n  Fill out my Wufoo form!
URL:https://bcmlink.org/event/unite/
LOCATION:The Well Church\, Huntsville\, 809 Jordan Ln NW\, Huntsville\, Alabama\, 35816
ATTACH;FMTTYPE=image/webp:https://bcmlink.org/wp-content/uploads/2021/08/UNITE-V2-02.webp
ORGANIZER;CN="Mike Nuss":MAILTO:mnuss@alsbom.org
END:VEVENT
END:VCALENDAR